




BEGIN:VCALENDAR
VERSION:2.0
PRODID:-//Bücherfestival - ECPv6.7.0//NONSGML v1.0//EN
CALSCALE:GREGORIAN
METHOD:PUBLISH
X-WR-CALNAME:Bücherfestival
X-ORIGINAL-URL:https://www.buecherfestival.de
X-WR-CALDESC:Veranstaltungen für Bücherfestival
REFRESH-INTERVAL;VALUE=DURATION:PT1H
X-Robots-Tag:noindex
X-PUBLISHED-TTL:PT1H
BEGIN:VTIMEZONE
TZID:Europe/Berlin
BEGIN:DAYLIGHT
TZOFFSETFROM:+0100
TZOFFSETTO:+0200
TZNAME:CEST
DTSTART:20250330T010000
END:DAYLIGHT
BEGIN:STANDARD
TZOFFSETFROM:+0200
TZOFFSETTO:+0100
TZNAME:CET
DTSTART:20251026T010000
END:STANDARD
END:VTIMEZONE
BEGIN:VEVENT
DTSTART;TZID=Europe/Berlin:20251108T110000
DTEND;TZID=Europe/Berlin:20251108T120000
DTSTAMP:20260419T180314
CREATED:20250911T093324Z
LAST-MODIFIED:20250911T093324Z
UID:1926-1762599600-1762603200@www.buecherfestival.de
SUMMARY:Anna Fink - Der Vogel der Welten
DESCRIPTION:Autor: Boris ZatkoDer zweite Band der preisgekrönten Fantasy-Jugendbuch-Trilogie! Nach einer holprigen Reise erreichen Anna und ihre Mutter Linda das Märchenreich Negasem. Bei einem geheimen Treffen mit dem jungen Herzog Akil Serafin auf einem Friedhof unterhalb des Schlosses finden sie das „Ei der Seelenvögel“. In diesem sind die Seelen der Kriegstreiber zwischen den Menschen und den Bewohnern des Märchenreiches eingesperrt. Nach dem Bekanntwerden des Fundes entbrennt zwischen den Herzogtümern ein Streit um die Besitzrechte. Schließlich stiehlt jemand das Ei und wenig später wird Annas Mutter entführt. Auf ihrer Suche muss Anna vielen Gefahren begegnen. \nGenre: Jugendbuch
URL:https://www.buecherfestival.de/event/anna-fink-der-vogel-der-welten-2/
LOCATION:Stadtbibliothek Baden-Baden
CATEGORIES:Kinder & Jugendprogramm,Lesung
ATTACH;FMTTYPE=image/jpeg:https://www.buecherfestival.de/wp-content/uploads/2024/10/Boris-Zatko.jpg
END:VEVENT
BEGIN:VEVENT
DTSTART;TZID=Europe/Berlin:20251108T140000
DTEND;TZID=Europe/Berlin:20251108T160000
DTSTAMP:20260419T180314
CREATED:20250617T115801Z
LAST-MODIFIED:20250918T154453Z
UID:1650-1762610400-1762617600@www.buecherfestival.de
SUMMARY:Zeichenworkshop: „Comics zeichnen für Kinder“
DESCRIPTION:Autor: Boris ZatkoBoris Zatko zählt zu den bekanntesten Comic-Künstlern der Schweiz. In Deutschland ist er vor allem durch seine Arbeiten für das KNAX-Heft und seine Bilderbücher im Oberstebrink Verlag bekannt. \nIn seinen Kursen geht es vor allem darum\, praxisnahes Handwerkszeug zu vermitteln\, das dabei hilft\, eigene Comic-Ideen lebendig werden zu lassen. \nBevor die Stifte zum Einsatz kommen\, gibt Boris einen kleinen Einblick in seine Arbeit und die Welt der Comics\, der Geschichten und der Illustration. \nIm Verlauf des Kurses begleitet er die Teilnehmenden mit hilfreichen Tipps\, zeigt Kniffe aus der Profi-Werkstatt und ermutigt zum kreativen Ausprobieren. So gelingt es auch Einsteiger*innen\, ihre Vorstellungen Schritt für Schritt aufs Papier zu bringen – oft mit überraschend starken Ergebnissen.
URL:https://www.buecherfestival.de/event/zeichenworkshop-comics-zeichnen-fuer-kinder/
LOCATION:Stadtbibliothek Baden-Baden
CATEGORIES:Festival,Kinder & Jugendprogramm,Workshop
ATTACH;FMTTYPE=image/jpeg:https://www.buecherfestival.de/wp-content/uploads/2024/10/Boris-Zatko.jpg
END:VEVENT
END:VCALENDAR