




BEGIN:VCALENDAR
VERSION:2.0
PRODID:-//Bücherfestival - ECPv6.7.0//NONSGML v1.0//EN
CALSCALE:GREGORIAN
METHOD:PUBLISH
X-WR-CALNAME:Bücherfestival
X-ORIGINAL-URL:https://www.buecherfestival.de
X-WR-CALDESC:Veranstaltungen für Bücherfestival
REFRESH-INTERVAL;VALUE=DURATION:PT1H
X-Robots-Tag:noindex
X-PUBLISHED-TTL:PT1H
BEGIN:VTIMEZONE
TZID:Europe/Berlin
BEGIN:DAYLIGHT
TZOFFSETFROM:+0100
TZOFFSETTO:+0200
TZNAME:CEST
DTSTART:20240331T010000
END:DAYLIGHT
BEGIN:STANDARD
TZOFFSETFROM:+0200
TZOFFSETTO:+0100
TZNAME:CET
DTSTART:20241027T010000
END:STANDARD
END:VTIMEZONE
BEGIN:VEVENT
DTSTART;TZID=Europe/Berlin:20241107T190000
DTEND;TZID=Europe/Berlin:20241107T220000
DTSTAMP:20260422T145219
CREATED:20240926T062847Z
LAST-MODIFIED:20241107T152452Z
UID:915-1731006000-1731016800@www.buecherfestival.de
SUMMARY:Zauber der Stille
DESCRIPTION:Autor: Florian Illies\, Moderation Denis ScheckMit Florian Illies kann man Vergangenheit plötzlich als Gegenwart erleben. In »Zauber der Stille« breitet er erstmals die abenteuerlichen Geschichten Caspar David Friedrichs vor uns aus. Eine wilde Zeitreise zu dem Mann\, der für die Deutschen die Sehnsucht erfand. —— (Absatz) Friedrichs abendliche Himmel wecken seit Jahrhunderten die leidenschaftlichsten Gefühle: Goethe macht ihre Melancholie so rasend\, dass er sie auf der Tischkante zerschlagen will\, Walt Disney hingegen verliebt sich so heftig in sie\, dass er sein »Bambi« nur durch Friedrich’sche Landschaften laufen lässt. Von Hitler so verehrt wie von Rainer Maria Rilke\, von Stalin so gehasst wie von den 68ern\, von der Mafia so heiß begehrt wie von Leni Riefenstahl – am Beispiel von Caspar David Friedrich werden in diesem mitreißend erzählten Buch 250 Jahre deutscher Geschichte sichtbar. Und Friedrich\, der Maler\, wird zu einem Menschen aus Fleisch und Blut. Nach »1913« und »Liebe in Zeiten des Hasses« das dritte große historische Epochenportrait von Florian Illies.
URL:https://www.buecherfestival.de/event/zauber-der-stille/
LOCATION:Stiftskirche Liebfrauen
CATEGORIES:Festival
ATTACH;FMTTYPE=image/jpeg:https://www.buecherfestival.de/wp-content/uploads/2024/09/Illies-c-Mathias-Bothor-scaled.jpg
END:VEVENT
END:VCALENDAR