




BEGIN:VCALENDAR
VERSION:2.0
PRODID:-//Bücherfestival - ECPv6.7.0//NONSGML v1.0//EN
CALSCALE:GREGORIAN
METHOD:PUBLISH
X-ORIGINAL-URL:https://www.buecherfestival.de
X-WR-CALDESC:Veranstaltungen für Bücherfestival
REFRESH-INTERVAL;VALUE=DURATION:PT1H
X-Robots-Tag:noindex
X-PUBLISHED-TTL:PT1H
BEGIN:VTIMEZONE
TZID:Europe/Berlin
BEGIN:DAYLIGHT
TZOFFSETFROM:+0100
TZOFFSETTO:+0200
TZNAME:CEST
DTSTART:20240331T010000
END:DAYLIGHT
BEGIN:STANDARD
TZOFFSETFROM:+0200
TZOFFSETTO:+0100
TZNAME:CET
DTSTART:20241027T010000
END:STANDARD
END:VTIMEZONE
BEGIN:VEVENT
DTSTART;TZID=Europe/Berlin:20241109T130000
DTEND;TZID=Europe/Berlin:20241109T140000
DTSTAMP:20260420T211312
CREATED:20240926T072527Z
LAST-MODIFIED:20241025T041341Z
UID:982-1731157200-1731160800@www.buecherfestival.de
SUMMARY:Manchmal ist das Leben dünn
DESCRIPTION:Autor: Dr. Renate Jachnow„Manchmal ist das Leben dünn“ beschreibt in fünf Erzählungen\, wie verschiedene Menschen in unterschiedlichen Lebenssituationen auf ihre engen Spielräume und ihre eigenen Blockierungen aufmerksam werden. Mal sind es Lebenskrisen\, mal äußere Ereignisse\, die sie zur Auseinandersetzung mit sich und ihrer Welt herausfordern. Ob es um eine Kindergartenleiterin\, eine Psychotherapeutin\, eine ehemalige Lehrerin\, einen Chemiker geht – die Frage ist dieselbe\, ob und was sie verändern wollen und können. Sie helfen ihnen\, sich ihre Verstricktheit einzugestehen. So können sie einerseits Bewährtes in ihrem Leben anerkennen und zusätzlich hinten angestellte Neigungen und Begabungen hervorholen und angehen. Das ermöglicht ihnen eine neue entspannte Balance. Eine besondere Rolle spielt dabei die Psychologie der Dinge. Auf humorvolle sowie tiefsinnige Weise ringen die Protagonisten in Selbstund Zwiegesprächen um klare Selbsterkenntnis und ein erfüllenderes Leben.
URL:https://www.buecherfestival.de/event/manchmal-ist-das-leben-dunn/
LOCATION:Lesecafé im Kulturhaus LA8
CATEGORIES:Lesung
ATTACH;FMTTYPE=image/jpeg:https://www.buecherfestival.de/wp-content/uploads/2024/10/Renate-Jachnow--scaled.jpg
END:VEVENT
END:VCALENDAR